BEGIN:VCALENDAR
VERSION:2.0
PRODID:-//wp-events-plugin.com//7.2.3.1//EN
BEGIN:VEVENT
UID:19@kg-kick-ens.de
DTSTART:20260111T110000Z
DTEND:20260111T140000Z
DTSTAMP:20250730T181842Z
URL:https://kg-kick-ens.de/veranstaltungen/verleihung-ehrenschutzmann-frau
 /
SUMMARY:Verleihung "Ehrenschutzmann/-frau"
DESCRIPTION:Seit 1992 verleiht die KG Kick ens diesen ungewöhnlichen Ehren
 titel an Personen\, die sich für die Gesellschaft und für den Stadtteil 
 Rölsdorf im besonderen Maße verdient gemacht hat. Im Mittelpunkt dieser 
 Ehrung steht die Verleihung einer Preussichen Pickelhaube.\n\nLaut Wikiped
 ia war die sogenannte Pickelhaube (amtlich: „Helm mit Spitze")  eine zu
 nächst rein militärische\, dann auch polizeiliche Kopfbedeckung\, die\, 
 mit markanter „Spitze“\, erstmals 1842 in der preußischen Armee einge
 setzt wurde.\n\nDer Schutzmann aus der Jahrhundert ist mit seiner Pickelha
 ube seit der Erst-Gründung der Gesellschaft 1902 fest mit dem Namen der "
 Kick ens" verbunden und ziert seitdem das Vereinswappen (Die Entstehung de
 s Vereinsname!).\n\nSomit erklärt sich\, warum der jährliche Würdenträ
 ger bei der Verleihung im Januar als äußeres Zeichen die Nachbildung ein
 er preußischen Pickelhaube verliehen bekommt.\n\n&nbsp\;\n\nDie Bekanntga
 be des neuen designierten Ehrenschutzmanns / der neuen designierten Ehrens
 chutzmann erfolgt erst im Dezember 2025!\n\n&nbsp\;\n\n&nbsp\;\n\n&nbsp\;\
 n\n&nbsp\;\n\n&nbsp\;
ATTACH;FMTTYPE=image/jpeg:https://kg-kick-ens.de/wp-content/uploads/2025/0
 7/ORPKLHB6-2.webp
LOCATION:Saal im Vereinshaus Rölsdorf\, Monschauer Straße 227\, Düren-R
 ölsdorf\, Nordrhein-Westfalen\, 52355\, Deutschland
X-APPLE-STRUCTURED-LOCATION;VALUE=URI;X-ADDRESS=Monschauer Straße 227\, D
 üren-Rölsdorf\, Nordrhein-Westfalen\, 52355\, Deutschland;X-APPLE-RADIUS
 =100;X-TITLE=Saal im Vereinshaus Rölsdorf:geo:0,0
END:VEVENT
END:VCALENDAR