BEGIN:VCALENDAR
VERSION:2.0
PRODID:-//wp-events-plugin.com//7.2.3.1//EN
BEGIN:VEVENT
UID:13@kg-kick-ens.de
DTSTART:20241130T150000Z
DTEND:20241130T163000Z
DTSTAMP:20241128T090144Z
URL:https://kg-kick-ens.de/veranstaltungen/unsere-jugend-stellt-sich-vor/
SUMMARY:Unsere Jugend stellt sich vor!
DESCRIPTION:!!!Die Jugendabteilung der TSG lädt ein !!!!\n\nAm Samstag 30.
 11.2024 möchte sich unsere neu gegründete *Jugendabteilung* vorstellen.\
 n\nAus diesem Grund laden wir Euch zu einem kleinen "Vortanzen" bei Kaffee
  und Waffeln ein.\n\nWann: Sa. 30.11.2024\nEinlass: 15:00 Uhr\nBeginn: ca.
  15:30 Uhr\nWo: Vereinshaus Rölsdorf\n\nEingeladen sind Eltern\, Geschwis
 ter\, Verwandte\, Vorstand\, alle Vereinsmitglieder der KG Kick ens\, sons
 tige Fans und die\, die es hoffentlich noch werden.\n\nWir freuen uns auf 
 Euch\, schöne Tänze\, gute Gespräche und ein weiteres gemeinsames WIR !
ATTACH;FMTTYPE=image/jpeg:https://kg-kick-ens.de/wp-content/uploads/2024/1
 1/image_123650291-scaled-e1732741327638.jpg
LOCATION:Saal im Vereinshaus Rölsdorf\, Monschauer Straße 227\, Düren-R
 ölsdorf\, Nordrhein-Westfalen\, 52355\, Deutschland
X-APPLE-STRUCTURED-LOCATION;VALUE=URI;X-ADDRESS=Monschauer Straße 227\, D
 üren-Rölsdorf\, Nordrhein-Westfalen\, 52355\, Deutschland;X-APPLE-RADIUS
 =100;X-TITLE=Saal im Vereinshaus Rölsdorf:geo:0,0
END:VEVENT
END:VCALENDAR