BEGIN:VCALENDAR
VERSION:2.0
PRODID:-//wp-events-plugin.com//7.2.3.1//EN
BEGIN:VEVENT
UID:14@kg-kick-ens.de
DTSTART:20250730T190000Z
DTEND:20250730T220000Z
DTSTAMP:20250729T123520Z
URL:https://kg-kick-ens.de/veranstaltungen/rundgang-annakirmes/
SUMMARY:Rundgang "ANNAKIRMES"
DESCRIPTION:Der Vorstand der Kick ens lädt zu einem gemeinsamen Rundgang 
 über die "Annakirmes" ein.\n\nWir würden uns freuen\, wenn viele Mitglie
 der\, Freunde und Gönner der Gesellschaft Einladung folgen würden.\n\n&n
 bsp\;\n\nTreffpunkt ist um 19:00 Uhr vor dem Festzelt "Hexenhof"
ATTACH;FMTTYPE=image/jpeg:https://kg-kick-ens.de/wp-content/uploads/2025/0
 7/Annakirmes-2025.jpg
END:VEVENT
END:VCALENDAR