BEGIN:VCALENDAR
VERSION:2.0
PRODID:-//wp-events-plugin.com//7.2.3.1//EN
BEGIN:VEVENT
UID:25@kg-kick-ens.de
DTSTART:20260323T170000Z
DTEND:20260323T193000Z
DTSTAMP:20260221T160654Z
URL:https://kg-kick-ens.de/veranstaltungen/probetraining-in-allen-alterskl
 assen/
SUMMARY:Probetraining 2026 in allen Altersklassen
DESCRIPTION:Du hast Spaß am Tanzen und magst Karneval?\nDann meld Dich zu 
 unserem Probetraning an und gib uns eine kurze telefonische Rückmeldung. 
 Wir freuen uns auf Dich!!\n\nAnmeldung und weitere Infos bekommst Du von u
 nserer Jugendleiterin Anna Hoffmann unter 0160 - 91 927   621.
ATTACH;FMTTYPE=image/jpeg:https://kg-kick-ens.de/wp-content/uploads/2026/0
 2/Flyer-Probetraining-2026.jpg
LOCATION:Saal im Vereinshaus Rölsdorf\, Monschauer Straße 227\, Düren-R
 ölsdorf\, Nordrhein-Westfalen\, 52355\, Deutschland
X-APPLE-STRUCTURED-LOCATION;VALUE=URI;X-ADDRESS=Monschauer Straße 227\, D
 üren-Rölsdorf\, Nordrhein-Westfalen\, 52355\, Deutschland;X-APPLE-RADIUS
 =100;X-TITLE=Saal im Vereinshaus Rölsdorf:geo:0,0
END:VEVENT
END:VCALENDAR