BEGIN:VCALENDAR
VERSION:2.0
PRODID:-//wp-events-plugin.com//7.2.3.1//EN
BEGIN:VEVENT
UID:12@kg-kick-ens.de
DTSTART:20250110T190000Z
DTEND:20250110T233000Z
DTSTAMP:20241219T152728Z
URL:https://kg-kick-ens.de/veranstaltungen/ordensabend-2024-2025/
SUMMARY:"Ordensabend 2024/2025"
DESCRIPTION:\nIn der kommenden Session feiert unser Männerballett sein 3 x
  11 jähriges Jubiläum! Aus diesem Grund wurde der neue Sessionsorden der
  KG Kick ens dem Männerballett gewidmet.\nErstmals wollen wir mit einem s
 eparten Termin die Gelegenheit nutzen\, nicht nur dem Männerballett sonde
 rn allen aktiven Mitgliedern für ihren Einsatz und ihre längjährige Tre
 ue zum Verein zu danken.\nIn einem würdigen Rahmen werden an diesem Abend
  die Sessionsorden an die Aktiven gruppenweise ausgegeben.\n\nDie Gesellsc
 haft lädt zu einem "kölschen Buffet" ein.  Eine namentliche Anmeldung b
 is zum 01. Januar 2025 ist deshalb unbebingt erforderlich ( geschaeftsstel
 le@kg-kick-ens.de ).\n\nHinweis:  Bitte in Uniform erscheinen!\n\nSelbstv
 erständlich sind auch unsere inaktiven Mitglieder herzlich eingeladen.\n\
 n&nbsp\;
ATTACH;FMTTYPE=image/jpeg:https://kg-kick-ens.de/wp-content/uploads/2024/1
 2/Orden-gross-scaled.jpg
LOCATION:Saal im Vereinshaus Rölsdorf\, Monschauer Straße 227\, Düren-R
 ölsdorf\, Nordrhein-Westfalen\, 52355\, Deutschland
X-APPLE-STRUCTURED-LOCATION;VALUE=URI;X-ADDRESS=Monschauer Straße 227\, D
 üren-Rölsdorf\, Nordrhein-Westfalen\, 52355\, Deutschland;X-APPLE-RADIUS
 =100;X-TITLE=Saal im Vereinshaus Rölsdorf:geo:0,0
END:VEVENT
END:VCALENDAR