BEGIN:VCALENDAR
VERSION:2.0
PRODID:-//wp-events-plugin.com//7.2.3.1//EN
BEGIN:VEVENT
UID:20@kg-kick-ens.de
DTSTART:20250906T100000Z
DTEND:20250906T130000Z
DTSTAMP:20250828T101501Z
URL:https://kg-kick-ens.de/veranstaltungen/kartenvorverkauf-buuresitzung-f
 uer-mitglieder/
SUMMARY:Kartenvorverkauf Buuresitzung für Mitglieder
DESCRIPTION:Als Mitglied der KG Kick ens hast Du auch in diesem Jahr wieder
  die Möglichkeit\, Deine Eintrittkarten zur Buuresitzung bereits vor dem 
 offiziellen Verkausstart am 15. September zu reservieren.\n\nFür die neue
  Session 2025/2026 sind zunächst drei Aufführungen geplant. Bei entsprec
 hender Nachfrage werden wir mit Sonntag\, 01. Februar  2026 einen weitere
 n Termin anbieten.\n\nAktuell können nur Eintrittskarten für die folgend
 en Termine erworben werden:\n\n 	So. 18. Januar 2026   11:00 Uhr\n 	So. 
 25. Janaur 2026   11:00 Uhr\n 	Sa. 31. Januar 2026   16:00 Uhr\n\nNach
  dem 06. September können die Karten telefonisch bei unserer Geschäftsst
 elle Gürzenicher Str. 8 oder schriftlich per Mail an geschaeftestelle@kg-
 kick-ens.de bestellt werden\n\nÜber ein großes Interesse unserer Vereins
 mitgleider würden wir uns sehr freuen!\n\n&nbsp\;
ATTACH;FMTTYPE=image/jpeg:https://kg-kick-ens.de/wp-content/uploads/2024/0
 7/5D041528_DxO.jpg
LOCATION:Saal im Vereinshaus Rölsdorf\, Monschauer Straße 227\, Düren-R
 ölsdorf\, Nordrhein-Westfalen\, 52355\, Deutschland
X-APPLE-STRUCTURED-LOCATION;VALUE=URI;X-ADDRESS=Monschauer Straße 227\, D
 üren-Rölsdorf\, Nordrhein-Westfalen\, 52355\, Deutschland;X-APPLE-RADIUS
 =100;X-TITLE=Saal im Vereinshaus Rölsdorf:geo:0,0
END:VEVENT
END:VCALENDAR