BEGIN:VCALENDAR
VERSION:2.0
PRODID:-//wp-events-plugin.com//7.2.3.1//EN
BEGIN:VEVENT
UID:18@kg-kick-ens.de
DTSTART:20250925T193000Z
DTEND:20250925T210000Z
DTSTAMP:20250730T074112Z
URL:https://kg-kick-ens.de/veranstaltungen/jahreshauptversammlung-2025/
SUMMARY:Jahreshauptversammlung 2025
DESCRIPTION:Liebe Mitglieder der Gesellschaft\,\n\nauf unserer diesjährige
 n ordentlichen Mitgliederversammlung möchte Euch der Vorstand Bericht ers
 tatten zum Geschäftsjahr 2024 und gleichzeitig zurückblicken auf die Akt
 ivitäten der letzten Karnevalssession.\n\nSelbstverständlich geben wir a
 uch einen Ausblick auf die geplanten Veranstaltungen in der Session 2025/2
 026.\n\nÜber Euer zahlreiches Erscheinen würden wir uns sehr freuen!\n\n
 &nbsp\;\n\n&nbsp\;\n\n&nbsp\;
ATTACH;FMTTYPE=image/jpeg:https://kg-kick-ens.de/wp-content/uploads/2025/0
 7/business-brainstorming-scaled.jpg
LOCATION:Saal im Vereinshaus Rölsdorf\, Monschauer Straße 227\, Düren-R
 ölsdorf\, Nordrhein-Westfalen\, 52355\, Deutschland
X-APPLE-STRUCTURED-LOCATION;VALUE=URI;X-ADDRESS=Monschauer Straße 227\, D
 üren-Rölsdorf\, Nordrhein-Westfalen\, 52355\, Deutschland;X-APPLE-RADIUS
 =100;X-TITLE=Saal im Vereinshaus Rölsdorf:geo:0,0
END:VEVENT
END:VCALENDAR