BEGIN:VCALENDAR
VERSION:2.0
PRODID:-//wp-events-plugin.com//7.2.3.1//EN
BEGIN:VEVENT
UID:21@kg-kick-ens.de
DTSTART:20251003T150000Z
DTEND:20251003T220000Z
DTSTAMP:20250902T164326Z
URL:https://kg-kick-ens.de/veranstaltungen/herbst-und-weinfest/
SUMMARY:Herbst- und Weinfest!!!
DESCRIPTION:HERZLICHE EINLADUNG!\n\nDer Sommer neigt sich dem Ende zu und w
 ir möchten die goldene Jahreszeit gemeinsam mit allen Mitgliedern\, Freun
 den und Gönnern der KG Kick ens einläuten.\n\nDeshalb laden wir herzlich
  zu unserem Herbst- und Weinfest der Karnevalsgesellschaft Kick ens Rölsd
 orf ein.\n\nFreut Euch auf einen stimmungsvollen Nachmittag mit unterhalts
 amem Programm\, guten Weinen\, Köstlichkeiten vom Grill und vielen schön
 en Begegnungen.\n\nIn geselliger Runde wollen wir gemeinsam genießen\, an
 stoßen und die Freundschaften pflegen\, die unseren Verein und unser Umfe
 ld so besonders machen.
ATTACH;FMTTYPE=image/jpeg:https://kg-kick-ens.de/wp-content/uploads/2025/0
 8/Plakat-Wein-und-Herbstfest-2025.jpg
LOCATION:Saal im Vereinshaus Rölsdorf\, Monschauer Straße 227\, Düren-R
 ölsdorf\, Nordrhein-Westfalen\, 52355\, Deutschland
X-APPLE-STRUCTURED-LOCATION;VALUE=URI;X-ADDRESS=Monschauer Straße 227\, D
 üren-Rölsdorf\, Nordrhein-Westfalen\, 52355\, Deutschland;X-APPLE-RADIUS
 =100;X-TITLE=Saal im Vereinshaus Rölsdorf:geo:0,0
END:VEVENT
END:VCALENDAR